BEGIN:VCALENDAR
VERSION:2.0
PRODID:-//PROMENZ - ECPv6.13.2//NONSGML v1.0//EN
CALSCALE:GREGORIAN
METHOD:PUBLISH
X-ORIGINAL-URL:https://www.promenz.at
X-WR-CALDESC:Veranstaltungen für PROMENZ
REFRESH-INTERVAL;VALUE=DURATION:PT1H
X-Robots-Tag:noindex
X-PUBLISHED-TTL:PT1H
BEGIN:VTIMEZONE
TZID:Europe/Paris
BEGIN:DAYLIGHT
TZOFFSETFROM:+0100
TZOFFSETTO:+0200
TZNAME:CEST
DTSTART:20310330T010000
END:DAYLIGHT
BEGIN:STANDARD
TZOFFSETFROM:+0200
TZOFFSETTO:+0100
TZNAME:CET
DTSTART:20311026T010000
END:STANDARD
END:VTIMEZONE
BEGIN:VEVENT
DTSTART;TZID=Europe/Paris:20310107T150000
DTEND;TZID=Europe/Paris:20310107T170000
DTSTAMP:20260425T121732
CREATED:20240531T061535Z
LAST-MODIFIED:20260414T192759Z
UID:10001631-1925564400-1925571600@www.promenz.at
SUMMARY:BET-1130
DESCRIPTION:Betroffenengruppe 13. Bezirk \nUnterstützte Gesprächsgruppe im Kardinal König Haus (Kardinal-König-Platz 3) im 13. Bezirk von 15 - 17 Uhr. Offen nach vorheriger Anmeldung unter info@promenz.at oder 0664 525 33 00.
URL:https://www.promenz.at/promenzveranstaltung/bet-1130/2031-01-07/
LOCATION:Kardinal König Haus\, Kardinal-König-Platz 3\, Wien\, 1130\, Österreich
CATEGORIES:Betroffenengruppe Präsenz 1130
END:VEVENT
BEGIN:VEVENT
DTSTART;TZID=Europe/Paris:20310107T150000
DTEND;TZID=Europe/Paris:20310107T170000
DTSTAMP:20260425T121732
CREATED:20240531T063457Z
LAST-MODIFIED:20260414T192629Z
UID:10001620-1925564400-1925571600@www.promenz.at
SUMMARY:ANG-1130
DESCRIPTION:Angehörigengruppe 1130 Wien \nUnterstützte Gesprächsgruppe im Kardinal König Haus (Kardinal-König-Platz 3) im 13. Bezirk für Angehörige von Menschen mit Demenz von 15 - 17 Uhr. Offen nach vorheriger Anmeldung unter angehoerige@promenz.at oder 0664 3959941.
URL:https://www.promenz.at/promenzveranstaltung/ang-1130-2/2031-01-07/
LOCATION:Kardinal König Haus\, Kardinal-König-Platz 3\, Wien\, 1130\, Österreich
CATEGORIES:Angehörigengruppe Präsenz 1130
END:VEVENT
BEGIN:VEVENT
DTSTART;TZID=Europe/Paris:20310113T180000
DTEND;TZID=Europe/Paris:20310113T193000
DTSTAMP:20260425T121732
CREATED:20240423T162225Z
LAST-MODIFIED:20260414T192909Z
UID:10001642-1926093600-1926099000@www.promenz.at
SUMMARY:ANG-ONLINE
DESCRIPTION:Angehörigengruppe Online \nUnterstützte Gesprächsgruppe online via zoom\nvon 18 - 19.30 Uhr. Offen nach vorheriger Anmeldung unter info@promenz.at oder 0664 525 33 00.
URL:https://www.promenz.at/promenzveranstaltung/ang-online-5/2031-01-13/
CATEGORIES:Angehörigengruppe Online
END:VEVENT
BEGIN:VEVENT
DTSTART;TZID=Europe/Paris:20310121T150000
DTEND;TZID=Europe/Paris:20310121T170000
DTSTAMP:20260425T121732
CREATED:20240531T061535Z
LAST-MODIFIED:20260414T192759Z
UID:10001632-1926774000-1926781200@www.promenz.at
SUMMARY:BET-1130
DESCRIPTION:Betroffenengruppe 13. Bezirk \nUnterstützte Gesprächsgruppe im Kardinal König Haus (Kardinal-König-Platz 3) im 13. Bezirk von 15 - 17 Uhr. Offen nach vorheriger Anmeldung unter info@promenz.at oder 0664 525 33 00.
URL:https://www.promenz.at/promenzveranstaltung/bet-1130/2031-01-21/
LOCATION:Kardinal König Haus\, Kardinal-König-Platz 3\, Wien\, 1130\, Österreich
CATEGORIES:Betroffenengruppe Präsenz 1130
END:VEVENT
BEGIN:VEVENT
DTSTART;TZID=Europe/Paris:20310121T150000
DTEND;TZID=Europe/Paris:20310121T170000
DTSTAMP:20260425T121732
CREATED:20240531T063457Z
LAST-MODIFIED:20260414T192629Z
UID:10001621-1926774000-1926781200@www.promenz.at
SUMMARY:ANG-1130
DESCRIPTION:Angehörigengruppe 1130 Wien \nUnterstützte Gesprächsgruppe im Kardinal König Haus (Kardinal-König-Platz 3) im 13. Bezirk für Angehörige von Menschen mit Demenz von 15 - 17 Uhr. Offen nach vorheriger Anmeldung unter angehoerige@promenz.at oder 0664 3959941.
URL:https://www.promenz.at/promenzveranstaltung/ang-1130-2/2031-01-21/
LOCATION:Kardinal König Haus\, Kardinal-König-Platz 3\, Wien\, 1130\, Österreich
CATEGORIES:Angehörigengruppe Präsenz 1130
END:VEVENT
BEGIN:VEVENT
DTSTART;TZID=Europe/Paris:20310127T180000
DTEND;TZID=Europe/Paris:20310127T193000
DTSTAMP:20260425T121732
CREATED:20240423T162225Z
LAST-MODIFIED:20260414T192909Z
UID:10001643-1927303200-1927308600@www.promenz.at
SUMMARY:ANG-ONLINE
DESCRIPTION:Angehörigengruppe Online \nUnterstützte Gesprächsgruppe online via zoom\nvon 18 - 19.30 Uhr. Offen nach vorheriger Anmeldung unter info@promenz.at oder 0664 525 33 00.
URL:https://www.promenz.at/promenzveranstaltung/ang-online-5/2031-01-27/
CATEGORIES:Angehörigengruppe Online
END:VEVENT
END:VCALENDAR