BEGIN:VCALENDAR
VERSION:2.0
PRODID:-//PROMENZ - ECPv6.13.2//NONSGML v1.0//EN
CALSCALE:GREGORIAN
METHOD:PUBLISH
X-WR-CALNAME:PROMENZ
X-ORIGINAL-URL:https://www.promenz.at
X-WR-CALDESC:Veranstaltungen für PROMENZ
REFRESH-INTERVAL;VALUE=DURATION:PT1H
X-Robots-Tag:noindex
X-PUBLISHED-TTL:PT1H
BEGIN:VTIMEZONE
TZID:Europe/Paris
BEGIN:DAYLIGHT
TZOFFSETFROM:+0100
TZOFFSETTO:+0200
TZNAME:CEST
DTSTART:20300331T010000
END:DAYLIGHT
BEGIN:STANDARD
TZOFFSETFROM:+0200
TZOFFSETTO:+0100
TZNAME:CET
DTSTART:20301027T010000
END:STANDARD
END:VTIMEZONE
BEGIN:VEVENT
DTSTART;TZID=Europe/Paris:20300502T150000
DTEND;TZID=Europe/Paris:20300502T163000
DTSTAMP:20260422T153308
CREATED:20230407T080100Z
LAST-MODIFIED:20251215T204502Z
UID:10001524-1903964400-1903969800@www.promenz.at
SUMMARY:BET-1030
DESCRIPTION:Betroffenengruppe 3. Bezirk \nUnterstützte Gesprächsgruppe im Nachbarschaftszentrum des Wiener Hilfswerk in der Barichgasse 8 im 3. Bezirk\, von 15 - 16:30 Uhr. Offen nach vorheriger Anmeldung unter buchegger@promenz.at oder 0660 94 90 438.
URL:https://www.promenz.at/promenzveranstaltung/bw1030-9/2030-05-02/
CATEGORIES:Betroffenengruppe Präsenz 1030
END:VEVENT
BEGIN:VEVENT
DTSTART;TZID=Europe/Paris:20300506T180000
DTEND;TZID=Europe/Paris:20300506T193000
DTSTAMP:20260422T153308
CREATED:20240423T162225Z
LAST-MODIFIED:20260414T192909Z
UID:10001575-1904320800-1904326200@www.promenz.at
SUMMARY:ANG-ONLINE
DESCRIPTION:Angehörigengruppe Online \nUnterstützte Gesprächsgruppe online via zoom\nvon 18 - 19.30 Uhr. Offen nach vorheriger Anmeldung unter info@promenz.at oder 0664 525 33 00.
URL:https://www.promenz.at/promenzveranstaltung/ang-online-5/2030-05-06/
CATEGORIES:Angehörigengruppe Online
END:VEVENT
BEGIN:VEVENT
DTSTART;TZID=Europe/Paris:20300509T150000
DTEND;TZID=Europe/Paris:20300509T163000
DTSTAMP:20260422T153308
CREATED:20230407T080100Z
LAST-MODIFIED:20251215T204502Z
UID:10001525-1904569200-1904574600@www.promenz.at
SUMMARY:BET-1030
DESCRIPTION:Betroffenengruppe 3. Bezirk \nUnterstützte Gesprächsgruppe im Nachbarschaftszentrum des Wiener Hilfswerk in der Barichgasse 8 im 3. Bezirk\, von 15 - 16:30 Uhr. Offen nach vorheriger Anmeldung unter buchegger@promenz.at oder 0660 94 90 438.
URL:https://www.promenz.at/promenzveranstaltung/bw1030-9/2030-05-09/
CATEGORIES:Betroffenengruppe Präsenz 1030
END:VEVENT
BEGIN:VEVENT
DTSTART;TZID=Europe/Paris:20300514T150000
DTEND;TZID=Europe/Paris:20300514T170000
DTSTAMP:20260422T153308
CREATED:20240531T061535Z
LAST-MODIFIED:20260414T192759Z
UID:10001472-1905001200-1905008400@www.promenz.at
SUMMARY:BET-1130
DESCRIPTION:Betroffenengruppe 13. Bezirk \nUnterstützte Gesprächsgruppe im Kardinal König Haus (Kardinal-König-Platz 3) im 13. Bezirk von 15 - 17 Uhr. Offen nach vorheriger Anmeldung unter info@promenz.at oder 0664 525 33 00.
URL:https://www.promenz.at/promenzveranstaltung/bet-1130/2030-05-14/
LOCATION:Kardinal König Haus\, Kardinal-König-Platz 3\, Wien\, 1130\, Österreich
CATEGORIES:Betroffenengruppe Präsenz 1130
END:VEVENT
BEGIN:VEVENT
DTSTART;TZID=Europe/Paris:20300514T150000
DTEND;TZID=Europe/Paris:20300514T170000
DTSTAMP:20260422T153308
CREATED:20240531T063457Z
LAST-MODIFIED:20260414T192629Z
UID:10001489-1905001200-1905008400@www.promenz.at
SUMMARY:ANG-1130
DESCRIPTION:Angehörigengruppe 1130 Wien \nUnterstützte Gesprächsgruppe im Kardinal König Haus (Kardinal-König-Platz 3) im 13. Bezirk für Angehörige von Menschen mit Demenz von 15 - 17 Uhr. Offen nach vorheriger Anmeldung unter angehoerige@promenz.at oder 0664 3959941.
URL:https://www.promenz.at/promenzveranstaltung/ang-1130-2/2030-05-14/
LOCATION:Kardinal König Haus\, Kardinal-König-Platz 3\, Wien\, 1130\, Österreich
CATEGORIES:Angehörigengruppe Präsenz 1130
END:VEVENT
BEGIN:VEVENT
DTSTART;TZID=Europe/Paris:20300516T150000
DTEND;TZID=Europe/Paris:20300516T163000
DTSTAMP:20260422T153308
CREATED:20230407T080100Z
LAST-MODIFIED:20251215T204502Z
UID:10001526-1905174000-1905179400@www.promenz.at
SUMMARY:BET-1030
DESCRIPTION:Betroffenengruppe 3. Bezirk \nUnterstützte Gesprächsgruppe im Nachbarschaftszentrum des Wiener Hilfswerk in der Barichgasse 8 im 3. Bezirk\, von 15 - 16:30 Uhr. Offen nach vorheriger Anmeldung unter buchegger@promenz.at oder 0660 94 90 438.
URL:https://www.promenz.at/promenzveranstaltung/bw1030-9/2030-05-16/
CATEGORIES:Betroffenengruppe Präsenz 1030
END:VEVENT
BEGIN:VEVENT
DTSTART;TZID=Europe/Paris:20300520T180000
DTEND;TZID=Europe/Paris:20300520T193000
DTSTAMP:20260422T153308
CREATED:20240423T162225Z
LAST-MODIFIED:20260414T192909Z
UID:10001576-1905530400-1905535800@www.promenz.at
SUMMARY:ANG-ONLINE
DESCRIPTION:Angehörigengruppe Online \nUnterstützte Gesprächsgruppe online via zoom\nvon 18 - 19.30 Uhr. Offen nach vorheriger Anmeldung unter info@promenz.at oder 0664 525 33 00.
URL:https://www.promenz.at/promenzveranstaltung/ang-online-5/2030-05-20/
CATEGORIES:Angehörigengruppe Online
END:VEVENT
BEGIN:VEVENT
DTSTART;TZID=Europe/Paris:20300523T150000
DTEND;TZID=Europe/Paris:20300523T163000
DTSTAMP:20260422T153308
CREATED:20230407T080100Z
LAST-MODIFIED:20251215T204502Z
UID:10001527-1905778800-1905784200@www.promenz.at
SUMMARY:BET-1030
DESCRIPTION:Betroffenengruppe 3. Bezirk \nUnterstützte Gesprächsgruppe im Nachbarschaftszentrum des Wiener Hilfswerk in der Barichgasse 8 im 3. Bezirk\, von 15 - 16:30 Uhr. Offen nach vorheriger Anmeldung unter buchegger@promenz.at oder 0660 94 90 438.
URL:https://www.promenz.at/promenzveranstaltung/bw1030-9/2030-05-23/
CATEGORIES:Betroffenengruppe Präsenz 1030
END:VEVENT
BEGIN:VEVENT
DTSTART;TZID=Europe/Paris:20300528T150000
DTEND;TZID=Europe/Paris:20300528T170000
DTSTAMP:20260422T153308
CREATED:20240531T061535Z
LAST-MODIFIED:20260414T192759Z
UID:10001543-1906210800-1906218000@www.promenz.at
SUMMARY:BET-1130
DESCRIPTION:Betroffenengruppe 13. Bezirk \nUnterstützte Gesprächsgruppe im Kardinal König Haus (Kardinal-König-Platz 3) im 13. Bezirk von 15 - 17 Uhr. Offen nach vorheriger Anmeldung unter info@promenz.at oder 0664 525 33 00.
URL:https://www.promenz.at/promenzveranstaltung/bet-1130/2030-05-28/
LOCATION:Kardinal König Haus\, Kardinal-König-Platz 3\, Wien\, 1130\, Österreich
CATEGORIES:Betroffenengruppe Präsenz 1130
END:VEVENT
BEGIN:VEVENT
DTSTART;TZID=Europe/Paris:20300528T150000
DTEND;TZID=Europe/Paris:20300528T170000
DTSTAMP:20260422T153308
CREATED:20240531T063457Z
LAST-MODIFIED:20260414T192629Z
UID:10001490-1906210800-1906218000@www.promenz.at
SUMMARY:ANG-1130
DESCRIPTION:Angehörigengruppe 1130 Wien \nUnterstützte Gesprächsgruppe im Kardinal König Haus (Kardinal-König-Platz 3) im 13. Bezirk für Angehörige von Menschen mit Demenz von 15 - 17 Uhr. Offen nach vorheriger Anmeldung unter angehoerige@promenz.at oder 0664 3959941.
URL:https://www.promenz.at/promenzveranstaltung/ang-1130-2/2030-05-28/
LOCATION:Kardinal König Haus\, Kardinal-König-Platz 3\, Wien\, 1130\, Österreich
CATEGORIES:Angehörigengruppe Präsenz 1130
END:VEVENT
BEGIN:VEVENT
DTSTART;TZID=Europe/Paris:20300530T150000
DTEND;TZID=Europe/Paris:20300530T163000
DTSTAMP:20260422T153308
CREATED:20230407T080100Z
LAST-MODIFIED:20251215T204502Z
UID:10001528-1906383600-1906389000@www.promenz.at
SUMMARY:BET-1030
DESCRIPTION:Betroffenengruppe 3. Bezirk \nUnterstützte Gesprächsgruppe im Nachbarschaftszentrum des Wiener Hilfswerk in der Barichgasse 8 im 3. Bezirk\, von 15 - 16:30 Uhr. Offen nach vorheriger Anmeldung unter buchegger@promenz.at oder 0660 94 90 438.
URL:https://www.promenz.at/promenzveranstaltung/bw1030-9/2030-05-30/
CATEGORIES:Betroffenengruppe Präsenz 1030
END:VEVENT
END:VCALENDAR