BEGIN:VCALENDAR
VERSION:2.0
PRODID:-//PROMENZ - ECPv6.13.2//NONSGML v1.0//EN
CALSCALE:GREGORIAN
METHOD:PUBLISH
X-WR-CALNAME:PROMENZ
X-ORIGINAL-URL:https://www.promenz.at
X-WR-CALDESC:Veranstaltungen für PROMENZ
REFRESH-INTERVAL;VALUE=DURATION:PT1H
X-Robots-Tag:noindex
X-PUBLISHED-TTL:PT1H
BEGIN:VTIMEZONE
TZID:Europe/Paris
BEGIN:DAYLIGHT
TZOFFSETFROM:+0100
TZOFFSETTO:+0200
TZNAME:CEST
DTSTART:20300331T010000
END:DAYLIGHT
BEGIN:STANDARD
TZOFFSETFROM:+0200
TZOFFSETTO:+0100
TZNAME:CET
DTSTART:20301027T010000
END:STANDARD
END:VTIMEZONE
BEGIN:VEVENT
DTSTART;TZID=Europe/Paris:20300402T150000
DTEND;TZID=Europe/Paris:20300402T170000
DTSTAMP:20260422T140609
CREATED:20240531T061535Z
LAST-MODIFIED:20260414T192759Z
UID:10001441-1901372400-1901379600@www.promenz.at
SUMMARY:BET-1130
DESCRIPTION:Betroffenengruppe 13. Bezirk \nUnterstützte Gesprächsgruppe im Kardinal König Haus (Kardinal-König-Platz 3) im 13. Bezirk von 15 - 17 Uhr. Offen nach vorheriger Anmeldung unter info@promenz.at oder 0664 525 33 00.
URL:https://www.promenz.at/promenzveranstaltung/bet-1130/2030-04-02/
LOCATION:Kardinal König Haus\, Kardinal-König-Platz 3\, Wien\, 1130\, Österreich
CATEGORIES:Betroffenengruppe Präsenz 1130
END:VEVENT
BEGIN:VEVENT
DTSTART;TZID=Europe/Paris:20300402T150000
DTEND;TZID=Europe/Paris:20300402T170000
DTSTAMP:20260422T140609
CREATED:20240531T063457Z
LAST-MODIFIED:20260414T192629Z
UID:10001486-1901372400-1901379600@www.promenz.at
SUMMARY:ANG-1130
DESCRIPTION:Angehörigengruppe 1130 Wien \nUnterstützte Gesprächsgruppe im Kardinal König Haus (Kardinal-König-Platz 3) im 13. Bezirk für Angehörige von Menschen mit Demenz von 15 - 17 Uhr. Offen nach vorheriger Anmeldung unter angehoerige@promenz.at oder 0664 3959941.
URL:https://www.promenz.at/promenzveranstaltung/ang-1130-2/2030-04-02/
LOCATION:Kardinal König Haus\, Kardinal-König-Platz 3\, Wien\, 1130\, Österreich
CATEGORIES:Angehörigengruppe Präsenz 1130
END:VEVENT
BEGIN:VEVENT
DTSTART;TZID=Europe/Paris:20300404T150000
DTEND;TZID=Europe/Paris:20300404T163000
DTSTAMP:20260422T140609
CREATED:20230407T080100Z
LAST-MODIFIED:20251215T204502Z
UID:10001520-1901545200-1901550600@www.promenz.at
SUMMARY:BET-1030
DESCRIPTION:Betroffenengruppe 3. Bezirk \nUnterstützte Gesprächsgruppe im Nachbarschaftszentrum des Wiener Hilfswerk in der Barichgasse 8 im 3. Bezirk\, von 15 - 16:30 Uhr. Offen nach vorheriger Anmeldung unter buchegger@promenz.at oder 0660 94 90 438.
URL:https://www.promenz.at/promenzveranstaltung/bw1030-9/2030-04-04/
CATEGORIES:Betroffenengruppe Präsenz 1030
END:VEVENT
BEGIN:VEVENT
DTSTART;TZID=Europe/Paris:20300408T180000
DTEND;TZID=Europe/Paris:20300408T193000
DTSTAMP:20260422T140609
CREATED:20240423T162225Z
LAST-MODIFIED:20260414T192909Z
UID:10001451-1901901600-1901907000@www.promenz.at
SUMMARY:ANG-ONLINE
DESCRIPTION:Angehörigengruppe Online \nUnterstützte Gesprächsgruppe online via zoom\nvon 18 - 19.30 Uhr. Offen nach vorheriger Anmeldung unter info@promenz.at oder 0664 525 33 00.
URL:https://www.promenz.at/promenzveranstaltung/ang-online-5/2030-04-08/
CATEGORIES:Angehörigengruppe Online
END:VEVENT
BEGIN:VEVENT
DTSTART;TZID=Europe/Paris:20300411T150000
DTEND;TZID=Europe/Paris:20300411T163000
DTSTAMP:20260422T140609
CREATED:20230407T080100Z
LAST-MODIFIED:20251215T204502Z
UID:10001521-1902150000-1902155400@www.promenz.at
SUMMARY:BET-1030
DESCRIPTION:Betroffenengruppe 3. Bezirk \nUnterstützte Gesprächsgruppe im Nachbarschaftszentrum des Wiener Hilfswerk in der Barichgasse 8 im 3. Bezirk\, von 15 - 16:30 Uhr. Offen nach vorheriger Anmeldung unter buchegger@promenz.at oder 0660 94 90 438.
URL:https://www.promenz.at/promenzveranstaltung/bw1030-9/2030-04-11/
CATEGORIES:Betroffenengruppe Präsenz 1030
END:VEVENT
BEGIN:VEVENT
DTSTART;TZID=Europe/Paris:20300416T150000
DTEND;TZID=Europe/Paris:20300416T170000
DTSTAMP:20260422T140609
CREATED:20240531T061535Z
LAST-MODIFIED:20260414T192759Z
UID:10001442-1902582000-1902589200@www.promenz.at
SUMMARY:BET-1130
DESCRIPTION:Betroffenengruppe 13. Bezirk \nUnterstützte Gesprächsgruppe im Kardinal König Haus (Kardinal-König-Platz 3) im 13. Bezirk von 15 - 17 Uhr. Offen nach vorheriger Anmeldung unter info@promenz.at oder 0664 525 33 00.
URL:https://www.promenz.at/promenzveranstaltung/bet-1130/2030-04-16/
LOCATION:Kardinal König Haus\, Kardinal-König-Platz 3\, Wien\, 1130\, Österreich
CATEGORIES:Betroffenengruppe Präsenz 1130
END:VEVENT
BEGIN:VEVENT
DTSTART;TZID=Europe/Paris:20300416T150000
DTEND;TZID=Europe/Paris:20300416T170000
DTSTAMP:20260422T140609
CREATED:20240531T063457Z
LAST-MODIFIED:20260414T192629Z
UID:10001487-1902582000-1902589200@www.promenz.at
SUMMARY:ANG-1130
DESCRIPTION:Angehörigengruppe 1130 Wien \nUnterstützte Gesprächsgruppe im Kardinal König Haus (Kardinal-König-Platz 3) im 13. Bezirk für Angehörige von Menschen mit Demenz von 15 - 17 Uhr. Offen nach vorheriger Anmeldung unter angehoerige@promenz.at oder 0664 3959941.
URL:https://www.promenz.at/promenzveranstaltung/ang-1130-2/2030-04-16/
LOCATION:Kardinal König Haus\, Kardinal-König-Platz 3\, Wien\, 1130\, Österreich
CATEGORIES:Angehörigengruppe Präsenz 1130
END:VEVENT
BEGIN:VEVENT
DTSTART;TZID=Europe/Paris:20300418T150000
DTEND;TZID=Europe/Paris:20300418T163000
DTSTAMP:20260422T140609
CREATED:20230407T080100Z
LAST-MODIFIED:20251215T204502Z
UID:10001522-1902754800-1902760200@www.promenz.at
SUMMARY:BET-1030
DESCRIPTION:Betroffenengruppe 3. Bezirk \nUnterstützte Gesprächsgruppe im Nachbarschaftszentrum des Wiener Hilfswerk in der Barichgasse 8 im 3. Bezirk\, von 15 - 16:30 Uhr. Offen nach vorheriger Anmeldung unter buchegger@promenz.at oder 0660 94 90 438.
URL:https://www.promenz.at/promenzveranstaltung/bw1030-9/2030-04-18/
CATEGORIES:Betroffenengruppe Präsenz 1030
END:VEVENT
BEGIN:VEVENT
DTSTART;TZID=Europe/Paris:20300422T180000
DTEND;TZID=Europe/Paris:20300422T193000
DTSTAMP:20260422T140609
CREATED:20240423T162225Z
LAST-MODIFIED:20260414T192909Z
UID:10001452-1903111200-1903116600@www.promenz.at
SUMMARY:ANG-ONLINE
DESCRIPTION:Angehörigengruppe Online \nUnterstützte Gesprächsgruppe online via zoom\nvon 18 - 19.30 Uhr. Offen nach vorheriger Anmeldung unter info@promenz.at oder 0664 525 33 00.
URL:https://www.promenz.at/promenzveranstaltung/ang-online-5/2030-04-22/
CATEGORIES:Angehörigengruppe Online
END:VEVENT
BEGIN:VEVENT
DTSTART;TZID=Europe/Paris:20300425T150000
DTEND;TZID=Europe/Paris:20300425T163000
DTSTAMP:20260422T140609
CREATED:20230407T080100Z
LAST-MODIFIED:20251215T204502Z
UID:10001523-1903359600-1903365000@www.promenz.at
SUMMARY:BET-1030
DESCRIPTION:Betroffenengruppe 3. Bezirk \nUnterstützte Gesprächsgruppe im Nachbarschaftszentrum des Wiener Hilfswerk in der Barichgasse 8 im 3. Bezirk\, von 15 - 16:30 Uhr. Offen nach vorheriger Anmeldung unter buchegger@promenz.at oder 0660 94 90 438.
URL:https://www.promenz.at/promenzveranstaltung/bw1030-9/2030-04-25/
CATEGORIES:Betroffenengruppe Präsenz 1030
END:VEVENT
BEGIN:VEVENT
DTSTART;TZID=Europe/Paris:20300430T150000
DTEND;TZID=Europe/Paris:20300430T170000
DTSTAMP:20260422T140609
CREATED:20240531T061535Z
LAST-MODIFIED:20260414T192759Z
UID:10001471-1903791600-1903798800@www.promenz.at
SUMMARY:BET-1130
DESCRIPTION:Betroffenengruppe 13. Bezirk \nUnterstützte Gesprächsgruppe im Kardinal König Haus (Kardinal-König-Platz 3) im 13. Bezirk von 15 - 17 Uhr. Offen nach vorheriger Anmeldung unter info@promenz.at oder 0664 525 33 00.
URL:https://www.promenz.at/promenzveranstaltung/bet-1130/2030-04-30/
LOCATION:Kardinal König Haus\, Kardinal-König-Platz 3\, Wien\, 1130\, Österreich
CATEGORIES:Betroffenengruppe Präsenz 1130
END:VEVENT
BEGIN:VEVENT
DTSTART;TZID=Europe/Paris:20300430T150000
DTEND;TZID=Europe/Paris:20300430T170000
DTSTAMP:20260422T140609
CREATED:20240531T063457Z
LAST-MODIFIED:20260414T192629Z
UID:10001488-1903791600-1903798800@www.promenz.at
SUMMARY:ANG-1130
DESCRIPTION:Angehörigengruppe 1130 Wien \nUnterstützte Gesprächsgruppe im Kardinal König Haus (Kardinal-König-Platz 3) im 13. Bezirk für Angehörige von Menschen mit Demenz von 15 - 17 Uhr. Offen nach vorheriger Anmeldung unter angehoerige@promenz.at oder 0664 3959941.
URL:https://www.promenz.at/promenzveranstaltung/ang-1130-2/2030-04-30/
LOCATION:Kardinal König Haus\, Kardinal-König-Platz 3\, Wien\, 1130\, Österreich
CATEGORIES:Angehörigengruppe Präsenz 1130
END:VEVENT
END:VCALENDAR