BEGIN:VCALENDAR
VERSION:2.0
PRODID:-//PROMENZ - ECPv6.13.2//NONSGML v1.0//EN
CALSCALE:GREGORIAN
METHOD:PUBLISH
X-ORIGINAL-URL:https://www.promenz.at
X-WR-CALDESC:Veranstaltungen für PROMENZ
REFRESH-INTERVAL;VALUE=DURATION:PT1H
X-Robots-Tag:noindex
X-PUBLISHED-TTL:PT1H
BEGIN:VTIMEZONE
TZID:Europe/Paris
BEGIN:DAYLIGHT
TZOFFSETFROM:+0100
TZOFFSETTO:+0200
TZNAME:CEST
DTSTART:20260329T010000
END:DAYLIGHT
BEGIN:STANDARD
TZOFFSETFROM:+0200
TZOFFSETTO:+0100
TZNAME:CET
DTSTART:20261025T010000
END:STANDARD
END:VTIMEZONE
BEGIN:VEVENT
DTSTART;TZID=Europe/Paris:20261020T150000
DTEND;TZID=Europe/Paris:20261020T170000
DTSTAMP:20260421T063724
CREATED:20240531T061535Z
LAST-MODIFIED:20260414T192759Z
UID:10000166-1792508400-1792515600@www.promenz.at
SUMMARY:BET-1130
DESCRIPTION:Betroffenengruppe 13. Bezirk \nUnterstützte Gesprächsgruppe im Kardinal König Haus (Kardinal-König-Platz 3) im 13. Bezirk von 15 - 17 Uhr. Offen nach vorheriger Anmeldung unter info@promenz.at oder 0664 525 33 00.
URL:https://www.promenz.at/promenzveranstaltung/bet-1130/2026-10-20/
LOCATION:Kardinal König Haus\, Kardinal-König-Platz 3\, Wien\, 1130\, Österreich
CATEGORIES:Betroffenengruppe Präsenz 1130
END:VEVENT
BEGIN:VEVENT
DTSTART;TZID=Europe/Paris:20261020T150000
DTEND;TZID=Europe/Paris:20261020T170000
DTSTAMP:20260421T063724
CREATED:20240531T063457Z
LAST-MODIFIED:20260414T192629Z
UID:10000294-1792508400-1792515600@www.promenz.at
SUMMARY:ANG-1130
DESCRIPTION:Angehörigengruppe 1130 Wien \nUnterstützte Gesprächsgruppe im Kardinal König Haus (Kardinal-König-Platz 3) im 13. Bezirk für Angehörige von Menschen mit Demenz von 15 - 17 Uhr. Offen nach vorheriger Anmeldung unter angehoerige@promenz.at oder 0664 3959941.
URL:https://www.promenz.at/promenzveranstaltung/ang-1130-2/2026-10-20/
LOCATION:Kardinal König Haus\, Kardinal-König-Platz 3\, Wien\, 1130\, Österreich
CATEGORIES:Angehörigengruppe Präsenz 1130
END:VEVENT
BEGIN:VEVENT
DTSTART;TZID=Europe/Paris:20261022T150000
DTEND;TZID=Europe/Paris:20261022T163000
DTSTAMP:20260421T063724
CREATED:20230407T080100Z
LAST-MODIFIED:20251215T204502Z
UID:10000862-1792681200-1792686600@www.promenz.at
SUMMARY:BET-1030
DESCRIPTION:Betroffenengruppe 3. Bezirk \nUnterstützte Gesprächsgruppe im Nachbarschaftszentrum des Wiener Hilfswerk in der Barichgasse 8 im 3. Bezirk\, von 15 - 16:30 Uhr. Offen nach vorheriger Anmeldung unter buchegger@promenz.at oder 0660 94 90 438.
URL:https://www.promenz.at/promenzveranstaltung/bw1030-9/2026-10-22/
CATEGORIES:Betroffenengruppe Präsenz 1030
END:VEVENT
BEGIN:VEVENT
DTSTART;TZID=Europe/Paris:20261026T180000
DTEND;TZID=Europe/Paris:20261026T193000
DTSTAMP:20260421T063724
CREATED:20240423T162225Z
LAST-MODIFIED:20260414T192909Z
UID:10000423-1793037600-1793043000@www.promenz.at
SUMMARY:ANG-ONLINE
DESCRIPTION:Angehörigengruppe Online \nUnterstützte Gesprächsgruppe online via zoom\nvon 18 - 19.30 Uhr. Offen nach vorheriger Anmeldung unter info@promenz.at oder 0664 525 33 00.
URL:https://www.promenz.at/promenzveranstaltung/ang-online-5/2026-10-26/
CATEGORIES:Angehörigengruppe Online
END:VEVENT
BEGIN:VEVENT
DTSTART;TZID=Europe/Paris:20261029T150000
DTEND;TZID=Europe/Paris:20261029T163000
DTSTAMP:20260421T063724
CREATED:20230407T080100Z
LAST-MODIFIED:20251215T204502Z
UID:10000863-1793286000-1793291400@www.promenz.at
SUMMARY:BET-1030
DESCRIPTION:Betroffenengruppe 3. Bezirk \nUnterstützte Gesprächsgruppe im Nachbarschaftszentrum des Wiener Hilfswerk in der Barichgasse 8 im 3. Bezirk\, von 15 - 16:30 Uhr. Offen nach vorheriger Anmeldung unter buchegger@promenz.at oder 0660 94 90 438.
URL:https://www.promenz.at/promenzveranstaltung/bw1030-9/2026-10-29/
CATEGORIES:Betroffenengruppe Präsenz 1030
END:VEVENT
BEGIN:VEVENT
DTSTART;TZID=Europe/Paris:20261102T150000
DTEND;TZID=Europe/Paris:20261102T170000
DTSTAMP:20260421T063724
CREATED:20241114T092142Z
LAST-MODIFIED:20250130T102514Z
UID:10001282-1793631600-1793638800@www.promenz.at
SUMMARY:BET-3400
DESCRIPTION:Betroffenengruppe Klosterneuburg \nUnterstützte Gesprächsgruppe im Caritas Pflegewohnhaus St. Leopold\, Brandmayerstraße 50\, in Klosterneuburg\nvon 15 - 17 Uhr. Offen nach vorheriger Anmeldung unter info.klosterneuburg@promenz.at oder +43 670 351 37 36.
URL:https://www.promenz.at/promenzveranstaltung/bet-3400/2026-11-02/
LOCATION:Caritas Pflegewohnhaus St. Leopold\, Brandmayerstraße 50\, Klosterneuburg\, 3400\, Österreich
CATEGORIES:Betroffenengruppe Präsenz 3400
END:VEVENT
BEGIN:VEVENT
DTSTART;TZID=Europe/Paris:20261103T150000
DTEND;TZID=Europe/Paris:20261103T170000
DTSTAMP:20260421T063724
CREATED:20240531T061535Z
LAST-MODIFIED:20260414T192759Z
UID:10000167-1793718000-1793725200@www.promenz.at
SUMMARY:BET-1130
DESCRIPTION:Betroffenengruppe 13. Bezirk \nUnterstützte Gesprächsgruppe im Kardinal König Haus (Kardinal-König-Platz 3) im 13. Bezirk von 15 - 17 Uhr. Offen nach vorheriger Anmeldung unter info@promenz.at oder 0664 525 33 00.
URL:https://www.promenz.at/promenzveranstaltung/bet-1130/2026-11-03/
LOCATION:Kardinal König Haus\, Kardinal-König-Platz 3\, Wien\, 1130\, Österreich
CATEGORIES:Betroffenengruppe Präsenz 1130
END:VEVENT
BEGIN:VEVENT
DTSTART;TZID=Europe/Paris:20261103T150000
DTEND;TZID=Europe/Paris:20261103T170000
DTSTAMP:20260421T063724
CREATED:20240531T063457Z
LAST-MODIFIED:20260414T192629Z
UID:10000295-1793718000-1793725200@www.promenz.at
SUMMARY:ANG-1130
DESCRIPTION:Angehörigengruppe 1130 Wien \nUnterstützte Gesprächsgruppe im Kardinal König Haus (Kardinal-König-Platz 3) im 13. Bezirk für Angehörige von Menschen mit Demenz von 15 - 17 Uhr. Offen nach vorheriger Anmeldung unter angehoerige@promenz.at oder 0664 3959941.
URL:https://www.promenz.at/promenzveranstaltung/ang-1130-2/2026-11-03/
LOCATION:Kardinal König Haus\, Kardinal-König-Platz 3\, Wien\, 1130\, Österreich
CATEGORIES:Angehörigengruppe Präsenz 1130
END:VEVENT
BEGIN:VEVENT
DTSTART;TZID=Europe/Paris:20261105T150000
DTEND;TZID=Europe/Paris:20261105T163000
DTSTAMP:20260421T063724
CREATED:20230407T080100Z
LAST-MODIFIED:20251215T204502Z
UID:10000864-1793890800-1793896200@www.promenz.at
SUMMARY:BET-1030
DESCRIPTION:Betroffenengruppe 3. Bezirk \nUnterstützte Gesprächsgruppe im Nachbarschaftszentrum des Wiener Hilfswerk in der Barichgasse 8 im 3. Bezirk\, von 15 - 16:30 Uhr. Offen nach vorheriger Anmeldung unter buchegger@promenz.at oder 0660 94 90 438.
URL:https://www.promenz.at/promenzveranstaltung/bw1030-9/2026-11-05/
CATEGORIES:Betroffenengruppe Präsenz 1030
END:VEVENT
BEGIN:VEVENT
DTSTART;TZID=Europe/Paris:20261109T180000
DTEND;TZID=Europe/Paris:20261109T193000
DTSTAMP:20260421T063724
CREATED:20240423T162225Z
LAST-MODIFIED:20260414T192909Z
UID:10000424-1794247200-1794252600@www.promenz.at
SUMMARY:ANG-ONLINE
DESCRIPTION:Angehörigengruppe Online \nUnterstützte Gesprächsgruppe online via zoom\nvon 18 - 19.30 Uhr. Offen nach vorheriger Anmeldung unter info@promenz.at oder 0664 525 33 00.
URL:https://www.promenz.at/promenzveranstaltung/ang-online-5/2026-11-09/
CATEGORIES:Angehörigengruppe Online
END:VEVENT
BEGIN:VEVENT
DTSTART;TZID=Europe/Paris:20261112T150000
DTEND;TZID=Europe/Paris:20261112T163000
DTSTAMP:20260421T063724
CREATED:20230407T080100Z
LAST-MODIFIED:20251215T204502Z
UID:10000865-1794495600-1794501000@www.promenz.at
SUMMARY:BET-1030
DESCRIPTION:Betroffenengruppe 3. Bezirk \nUnterstützte Gesprächsgruppe im Nachbarschaftszentrum des Wiener Hilfswerk in der Barichgasse 8 im 3. Bezirk\, von 15 - 16:30 Uhr. Offen nach vorheriger Anmeldung unter buchegger@promenz.at oder 0660 94 90 438.
URL:https://www.promenz.at/promenzveranstaltung/bw1030-9/2026-11-12/
CATEGORIES:Betroffenengruppe Präsenz 1030
END:VEVENT
BEGIN:VEVENT
DTSTART;TZID=Europe/Paris:20261116T150000
DTEND;TZID=Europe/Paris:20261116T170000
DTSTAMP:20260421T063724
CREATED:20241114T092142Z
LAST-MODIFIED:20250130T102514Z
UID:10001283-1794841200-1794848400@www.promenz.at
SUMMARY:BET-3400
DESCRIPTION:Betroffenengruppe Klosterneuburg \nUnterstützte Gesprächsgruppe im Caritas Pflegewohnhaus St. Leopold\, Brandmayerstraße 50\, in Klosterneuburg\nvon 15 - 17 Uhr. Offen nach vorheriger Anmeldung unter info.klosterneuburg@promenz.at oder +43 670 351 37 36.
URL:https://www.promenz.at/promenzveranstaltung/bet-3400/2026-11-16/
LOCATION:Caritas Pflegewohnhaus St. Leopold\, Brandmayerstraße 50\, Klosterneuburg\, 3400\, Österreich
CATEGORIES:Betroffenengruppe Präsenz 3400
END:VEVENT
BEGIN:VEVENT
DTSTART;TZID=Europe/Paris:20261117T150000
DTEND;TZID=Europe/Paris:20261117T170000
DTSTAMP:20260421T063724
CREATED:20240531T061535Z
LAST-MODIFIED:20260414T192759Z
UID:10000168-1794927600-1794934800@www.promenz.at
SUMMARY:BET-1130
DESCRIPTION:Betroffenengruppe 13. Bezirk \nUnterstützte Gesprächsgruppe im Kardinal König Haus (Kardinal-König-Platz 3) im 13. Bezirk von 15 - 17 Uhr. Offen nach vorheriger Anmeldung unter info@promenz.at oder 0664 525 33 00.
URL:https://www.promenz.at/promenzveranstaltung/bet-1130/2026-11-17/
LOCATION:Kardinal König Haus\, Kardinal-König-Platz 3\, Wien\, 1130\, Österreich
CATEGORIES:Betroffenengruppe Präsenz 1130
END:VEVENT
BEGIN:VEVENT
DTSTART;TZID=Europe/Paris:20261117T150000
DTEND;TZID=Europe/Paris:20261117T170000
DTSTAMP:20260421T063724
CREATED:20240531T063457Z
LAST-MODIFIED:20260414T192629Z
UID:10000296-1794927600-1794934800@www.promenz.at
SUMMARY:ANG-1130
DESCRIPTION:Angehörigengruppe 1130 Wien \nUnterstützte Gesprächsgruppe im Kardinal König Haus (Kardinal-König-Platz 3) im 13. Bezirk für Angehörige von Menschen mit Demenz von 15 - 17 Uhr. Offen nach vorheriger Anmeldung unter angehoerige@promenz.at oder 0664 3959941.
URL:https://www.promenz.at/promenzveranstaltung/ang-1130-2/2026-11-17/
LOCATION:Kardinal König Haus\, Kardinal-König-Platz 3\, Wien\, 1130\, Österreich
CATEGORIES:Angehörigengruppe Präsenz 1130
END:VEVENT
BEGIN:VEVENT
DTSTART;TZID=Europe/Paris:20261119T150000
DTEND;TZID=Europe/Paris:20261119T163000
DTSTAMP:20260421T063724
CREATED:20230407T080100Z
LAST-MODIFIED:20251215T204502Z
UID:10000866-1795100400-1795105800@www.promenz.at
SUMMARY:BET-1030
DESCRIPTION:Betroffenengruppe 3. Bezirk \nUnterstützte Gesprächsgruppe im Nachbarschaftszentrum des Wiener Hilfswerk in der Barichgasse 8 im 3. Bezirk\, von 15 - 16:30 Uhr. Offen nach vorheriger Anmeldung unter buchegger@promenz.at oder 0660 94 90 438.
URL:https://www.promenz.at/promenzveranstaltung/bw1030-9/2026-11-19/
CATEGORIES:Betroffenengruppe Präsenz 1030
END:VEVENT
BEGIN:VEVENT
DTSTART;TZID=Europe/Paris:20261123T180000
DTEND;TZID=Europe/Paris:20261123T193000
DTSTAMP:20260421T063724
CREATED:20240423T162225Z
LAST-MODIFIED:20260414T192909Z
UID:10000425-1795456800-1795462200@www.promenz.at
SUMMARY:ANG-ONLINE
DESCRIPTION:Angehörigengruppe Online \nUnterstützte Gesprächsgruppe online via zoom\nvon 18 - 19.30 Uhr. Offen nach vorheriger Anmeldung unter info@promenz.at oder 0664 525 33 00.
URL:https://www.promenz.at/promenzveranstaltung/ang-online-5/2026-11-23/
CATEGORIES:Angehörigengruppe Online
END:VEVENT
BEGIN:VEVENT
DTSTART;TZID=Europe/Paris:20261126T150000
DTEND;TZID=Europe/Paris:20261126T163000
DTSTAMP:20260421T063724
CREATED:20230407T080100Z
LAST-MODIFIED:20251215T204502Z
UID:10000867-1795705200-1795710600@www.promenz.at
SUMMARY:BET-1030
DESCRIPTION:Betroffenengruppe 3. Bezirk \nUnterstützte Gesprächsgruppe im Nachbarschaftszentrum des Wiener Hilfswerk in der Barichgasse 8 im 3. Bezirk\, von 15 - 16:30 Uhr. Offen nach vorheriger Anmeldung unter buchegger@promenz.at oder 0660 94 90 438.
URL:https://www.promenz.at/promenzveranstaltung/bw1030-9/2026-11-26/
CATEGORIES:Betroffenengruppe Präsenz 1030
END:VEVENT
BEGIN:VEVENT
DTSTART;TZID=Europe/Paris:20261130T150000
DTEND;TZID=Europe/Paris:20261130T170000
DTSTAMP:20260421T063724
CREATED:20241114T092142Z
LAST-MODIFIED:20250130T102514Z
UID:10001284-1796050800-1796058000@www.promenz.at
SUMMARY:BET-3400
DESCRIPTION:Betroffenengruppe Klosterneuburg \nUnterstützte Gesprächsgruppe im Caritas Pflegewohnhaus St. Leopold\, Brandmayerstraße 50\, in Klosterneuburg\nvon 15 - 17 Uhr. Offen nach vorheriger Anmeldung unter info.klosterneuburg@promenz.at oder +43 670 351 37 36.
URL:https://www.promenz.at/promenzveranstaltung/bet-3400/2026-11-30/
LOCATION:Caritas Pflegewohnhaus St. Leopold\, Brandmayerstraße 50\, Klosterneuburg\, 3400\, Österreich
CATEGORIES:Betroffenengruppe Präsenz 3400
END:VEVENT
BEGIN:VEVENT
DTSTART;TZID=Europe/Paris:20261201T150000
DTEND;TZID=Europe/Paris:20261201T170000
DTSTAMP:20260421T063724
CREATED:20240531T061535Z
LAST-MODIFIED:20260414T192759Z
UID:10000169-1796137200-1796144400@www.promenz.at
SUMMARY:BET-1130
DESCRIPTION:Betroffenengruppe 13. Bezirk \nUnterstützte Gesprächsgruppe im Kardinal König Haus (Kardinal-König-Platz 3) im 13. Bezirk von 15 - 17 Uhr. Offen nach vorheriger Anmeldung unter info@promenz.at oder 0664 525 33 00.
URL:https://www.promenz.at/promenzveranstaltung/bet-1130/2026-12-01/
LOCATION:Kardinal König Haus\, Kardinal-König-Platz 3\, Wien\, 1130\, Österreich
CATEGORIES:Betroffenengruppe Präsenz 1130
END:VEVENT
BEGIN:VEVENT
DTSTART;TZID=Europe/Paris:20261201T150000
DTEND;TZID=Europe/Paris:20261201T170000
DTSTAMP:20260421T063724
CREATED:20240531T063457Z
LAST-MODIFIED:20260414T192629Z
UID:10000297-1796137200-1796144400@www.promenz.at
SUMMARY:ANG-1130
DESCRIPTION:Angehörigengruppe 1130 Wien \nUnterstützte Gesprächsgruppe im Kardinal König Haus (Kardinal-König-Platz 3) im 13. Bezirk für Angehörige von Menschen mit Demenz von 15 - 17 Uhr. Offen nach vorheriger Anmeldung unter angehoerige@promenz.at oder 0664 3959941.
URL:https://www.promenz.at/promenzveranstaltung/ang-1130-2/2026-12-01/
LOCATION:Kardinal König Haus\, Kardinal-König-Platz 3\, Wien\, 1130\, Österreich
CATEGORIES:Angehörigengruppe Präsenz 1130
END:VEVENT
BEGIN:VEVENT
DTSTART;TZID=Europe/Paris:20261203T150000
DTEND;TZID=Europe/Paris:20261203T163000
DTSTAMP:20260421T063724
CREATED:20230407T080100Z
LAST-MODIFIED:20251215T204502Z
UID:10000868-1796310000-1796315400@www.promenz.at
SUMMARY:BET-1030
DESCRIPTION:Betroffenengruppe 3. Bezirk \nUnterstützte Gesprächsgruppe im Nachbarschaftszentrum des Wiener Hilfswerk in der Barichgasse 8 im 3. Bezirk\, von 15 - 16:30 Uhr. Offen nach vorheriger Anmeldung unter buchegger@promenz.at oder 0660 94 90 438.
URL:https://www.promenz.at/promenzveranstaltung/bw1030-9/2026-12-03/
CATEGORIES:Betroffenengruppe Präsenz 1030
END:VEVENT
BEGIN:VEVENT
DTSTART;TZID=Europe/Paris:20261207T180000
DTEND;TZID=Europe/Paris:20261207T193000
DTSTAMP:20260421T063724
CREATED:20240423T162225Z
LAST-MODIFIED:20260414T192909Z
UID:10000426-1796666400-1796671800@www.promenz.at
SUMMARY:ANG-ONLINE
DESCRIPTION:Angehörigengruppe Online \nUnterstützte Gesprächsgruppe online via zoom\nvon 18 - 19.30 Uhr. Offen nach vorheriger Anmeldung unter info@promenz.at oder 0664 525 33 00.
URL:https://www.promenz.at/promenzveranstaltung/ang-online-5/2026-12-07/
CATEGORIES:Angehörigengruppe Online
END:VEVENT
BEGIN:VEVENT
DTSTART;TZID=Europe/Paris:20261210T150000
DTEND;TZID=Europe/Paris:20261210T163000
DTSTAMP:20260421T063724
CREATED:20230407T080100Z
LAST-MODIFIED:20251215T204502Z
UID:10000869-1796914800-1796920200@www.promenz.at
SUMMARY:BET-1030
DESCRIPTION:Betroffenengruppe 3. Bezirk \nUnterstützte Gesprächsgruppe im Nachbarschaftszentrum des Wiener Hilfswerk in der Barichgasse 8 im 3. Bezirk\, von 15 - 16:30 Uhr. Offen nach vorheriger Anmeldung unter buchegger@promenz.at oder 0660 94 90 438.
URL:https://www.promenz.at/promenzveranstaltung/bw1030-9/2026-12-10/
CATEGORIES:Betroffenengruppe Präsenz 1030
END:VEVENT
BEGIN:VEVENT
DTSTART;TZID=Europe/Paris:20261214T150000
DTEND;TZID=Europe/Paris:20261214T170000
DTSTAMP:20260421T063724
CREATED:20241114T092142Z
LAST-MODIFIED:20250130T102514Z
UID:10001285-1797260400-1797267600@www.promenz.at
SUMMARY:BET-3400
DESCRIPTION:Betroffenengruppe Klosterneuburg \nUnterstützte Gesprächsgruppe im Caritas Pflegewohnhaus St. Leopold\, Brandmayerstraße 50\, in Klosterneuburg\nvon 15 - 17 Uhr. Offen nach vorheriger Anmeldung unter info.klosterneuburg@promenz.at oder +43 670 351 37 36.
URL:https://www.promenz.at/promenzveranstaltung/bet-3400/2026-12-14/
LOCATION:Caritas Pflegewohnhaus St. Leopold\, Brandmayerstraße 50\, Klosterneuburg\, 3400\, Österreich
CATEGORIES:Betroffenengruppe Präsenz 3400
END:VEVENT
BEGIN:VEVENT
DTSTART;TZID=Europe/Paris:20261215T150000
DTEND;TZID=Europe/Paris:20261215T170000
DTSTAMP:20260421T063724
CREATED:20240531T061535Z
LAST-MODIFIED:20260414T192759Z
UID:10000170-1797346800-1797354000@www.promenz.at
SUMMARY:BET-1130
DESCRIPTION:Betroffenengruppe 13. Bezirk \nUnterstützte Gesprächsgruppe im Kardinal König Haus (Kardinal-König-Platz 3) im 13. Bezirk von 15 - 17 Uhr. Offen nach vorheriger Anmeldung unter info@promenz.at oder 0664 525 33 00.
URL:https://www.promenz.at/promenzveranstaltung/bet-1130/2026-12-15/
LOCATION:Kardinal König Haus\, Kardinal-König-Platz 3\, Wien\, 1130\, Österreich
CATEGORIES:Betroffenengruppe Präsenz 1130
END:VEVENT
BEGIN:VEVENT
DTSTART;TZID=Europe/Paris:20261215T150000
DTEND;TZID=Europe/Paris:20261215T170000
DTSTAMP:20260421T063724
CREATED:20240531T063457Z
LAST-MODIFIED:20260414T192629Z
UID:10000298-1797346800-1797354000@www.promenz.at
SUMMARY:ANG-1130
DESCRIPTION:Angehörigengruppe 1130 Wien \nUnterstützte Gesprächsgruppe im Kardinal König Haus (Kardinal-König-Platz 3) im 13. Bezirk für Angehörige von Menschen mit Demenz von 15 - 17 Uhr. Offen nach vorheriger Anmeldung unter angehoerige@promenz.at oder 0664 3959941.
URL:https://www.promenz.at/promenzveranstaltung/ang-1130-2/2026-12-15/
LOCATION:Kardinal König Haus\, Kardinal-König-Platz 3\, Wien\, 1130\, Österreich
CATEGORIES:Angehörigengruppe Präsenz 1130
END:VEVENT
BEGIN:VEVENT
DTSTART;TZID=Europe/Paris:20261217T150000
DTEND;TZID=Europe/Paris:20261217T163000
DTSTAMP:20260421T063724
CREATED:20230407T080100Z
LAST-MODIFIED:20251215T204502Z
UID:10000870-1797519600-1797525000@www.promenz.at
SUMMARY:BET-1030
DESCRIPTION:Betroffenengruppe 3. Bezirk \nUnterstützte Gesprächsgruppe im Nachbarschaftszentrum des Wiener Hilfswerk in der Barichgasse 8 im 3. Bezirk\, von 15 - 16:30 Uhr. Offen nach vorheriger Anmeldung unter buchegger@promenz.at oder 0660 94 90 438.
URL:https://www.promenz.at/promenzveranstaltung/bw1030-9/2026-12-17/
CATEGORIES:Betroffenengruppe Präsenz 1030
END:VEVENT
BEGIN:VEVENT
DTSTART;TZID=Europe/Paris:20261221T180000
DTEND;TZID=Europe/Paris:20261221T193000
DTSTAMP:20260421T063724
CREATED:20240423T162225Z
LAST-MODIFIED:20260414T192909Z
UID:10000427-1797876000-1797881400@www.promenz.at
SUMMARY:ANG-ONLINE
DESCRIPTION:Angehörigengruppe Online \nUnterstützte Gesprächsgruppe online via zoom\nvon 18 - 19.30 Uhr. Offen nach vorheriger Anmeldung unter info@promenz.at oder 0664 525 33 00.
URL:https://www.promenz.at/promenzveranstaltung/ang-online-5/2026-12-21/
CATEGORIES:Angehörigengruppe Online
END:VEVENT
BEGIN:VEVENT
DTSTART;TZID=Europe/Paris:20261224T150000
DTEND;TZID=Europe/Paris:20261224T163000
DTSTAMP:20260421T063724
CREATED:20230407T080100Z
LAST-MODIFIED:20251215T204502Z
UID:10000871-1798124400-1798129800@www.promenz.at
SUMMARY:BET-1030
DESCRIPTION:Betroffenengruppe 3. Bezirk \nUnterstützte Gesprächsgruppe im Nachbarschaftszentrum des Wiener Hilfswerk in der Barichgasse 8 im 3. Bezirk\, von 15 - 16:30 Uhr. Offen nach vorheriger Anmeldung unter buchegger@promenz.at oder 0660 94 90 438.
URL:https://www.promenz.at/promenzveranstaltung/bw1030-9/2026-12-24/
CATEGORIES:Betroffenengruppe Präsenz 1030
END:VEVENT
BEGIN:VEVENT
DTSTART;TZID=Europe/Paris:20261228T150000
DTEND;TZID=Europe/Paris:20261228T170000
DTSTAMP:20260421T063724
CREATED:20241114T092142Z
LAST-MODIFIED:20250130T102514Z
UID:10001286-1798470000-1798477200@www.promenz.at
SUMMARY:BET-3400
DESCRIPTION:Betroffenengruppe Klosterneuburg \nUnterstützte Gesprächsgruppe im Caritas Pflegewohnhaus St. Leopold\, Brandmayerstraße 50\, in Klosterneuburg\nvon 15 - 17 Uhr. Offen nach vorheriger Anmeldung unter info.klosterneuburg@promenz.at oder +43 670 351 37 36.
URL:https://www.promenz.at/promenzveranstaltung/bet-3400/2026-12-28/
LOCATION:Caritas Pflegewohnhaus St. Leopold\, Brandmayerstraße 50\, Klosterneuburg\, 3400\, Österreich
CATEGORIES:Betroffenengruppe Präsenz 3400
END:VEVENT
END:VCALENDAR