BEGIN:VCALENDAR
VERSION:2.0
PRODID:-//PROMENZ - ECPv6.13.2//NONSGML v1.0//EN
CALSCALE:GREGORIAN
METHOD:PUBLISH
X-WR-CALNAME:PROMENZ
X-ORIGINAL-URL:https://www.promenz.at
X-WR-CALDESC:Veranstaltungen für PROMENZ
REFRESH-INTERVAL;VALUE=DURATION:PT1H
X-Robots-Tag:noindex
X-PUBLISHED-TTL:PT1H
BEGIN:VTIMEZONE
TZID:Europe/Paris
BEGIN:DAYLIGHT
TZOFFSETFROM:+0100
TZOFFSETTO:+0200
TZNAME:CEST
DTSTART:20260329T010000
END:DAYLIGHT
BEGIN:STANDARD
TZOFFSETFROM:+0200
TZOFFSETTO:+0100
TZNAME:CET
DTSTART:20261025T010000
END:STANDARD
END:VTIMEZONE
BEGIN:VEVENT
DTSTART;TZID=Europe/Paris:20260723T150000
DTEND;TZID=Europe/Paris:20260723T163000
DTSTAMP:20260421T012301
CREATED:20230407T080100Z
LAST-MODIFIED:20251215T204502Z
UID:10000849-1784818800-1784824200@www.promenz.at
SUMMARY:BET-1030
DESCRIPTION:Betroffenengruppe 3. Bezirk \nUnterstützte Gesprächsgruppe im Nachbarschaftszentrum des Wiener Hilfswerk in der Barichgasse 8 im 3. Bezirk\, von 15 - 16:30 Uhr. Offen nach vorheriger Anmeldung unter buchegger@promenz.at oder 0660 94 90 438.
URL:https://www.promenz.at/promenzveranstaltung/bw1030-9/2026-07-23/
CATEGORIES:Betroffenengruppe Präsenz 1030
END:VEVENT
BEGIN:VEVENT
DTSTART;TZID=Europe/Paris:20260727T150000
DTEND;TZID=Europe/Paris:20260727T170000
DTSTAMP:20260421T012301
CREATED:20241114T092142Z
LAST-MODIFIED:20250130T102514Z
UID:10001275-1785164400-1785171600@www.promenz.at
SUMMARY:BET-3400
DESCRIPTION:Betroffenengruppe Klosterneuburg \nUnterstützte Gesprächsgruppe im Caritas Pflegewohnhaus St. Leopold\, Brandmayerstraße 50\, in Klosterneuburg\nvon 15 - 17 Uhr. Offen nach vorheriger Anmeldung unter info.klosterneuburg@promenz.at oder +43 670 351 37 36.
URL:https://www.promenz.at/promenzveranstaltung/bet-3400/2026-07-27/
LOCATION:Caritas Pflegewohnhaus St. Leopold\, Brandmayerstraße 50\, Klosterneuburg\, 3400\, Österreich
CATEGORIES:Betroffenengruppe Präsenz 3400
END:VEVENT
BEGIN:VEVENT
DTSTART;TZID=Europe/Paris:20260730T150000
DTEND;TZID=Europe/Paris:20260730T163000
DTSTAMP:20260421T012301
CREATED:20230407T080100Z
LAST-MODIFIED:20251215T204502Z
UID:10000850-1785423600-1785429000@www.promenz.at
SUMMARY:BET-1030
DESCRIPTION:Betroffenengruppe 3. Bezirk \nUnterstützte Gesprächsgruppe im Nachbarschaftszentrum des Wiener Hilfswerk in der Barichgasse 8 im 3. Bezirk\, von 15 - 16:30 Uhr. Offen nach vorheriger Anmeldung unter buchegger@promenz.at oder 0660 94 90 438.
URL:https://www.promenz.at/promenzveranstaltung/bw1030-9/2026-07-30/
CATEGORIES:Betroffenengruppe Präsenz 1030
END:VEVENT
BEGIN:VEVENT
DTSTART;TZID=Europe/Paris:20260803T180000
DTEND;TZID=Europe/Paris:20260803T193000
DTSTAMP:20260421T012301
CREATED:20240423T162225Z
LAST-MODIFIED:20260414T192909Z
UID:10000417-1785780000-1785785400@www.promenz.at
SUMMARY:ANG-ONLINE
DESCRIPTION:Angehörigengruppe Online \nUnterstützte Gesprächsgruppe online via zoom\nvon 18 - 19.30 Uhr. Offen nach vorheriger Anmeldung unter info@promenz.at oder 0664 525 33 00.
URL:https://www.promenz.at/promenzveranstaltung/ang-online-5/2026-08-03/
CATEGORIES:Angehörigengruppe Online
END:VEVENT
BEGIN:VEVENT
DTSTART;TZID=Europe/Paris:20260806T150000
DTEND;TZID=Europe/Paris:20260806T163000
DTSTAMP:20260421T012301
CREATED:20230407T080100Z
LAST-MODIFIED:20251215T204502Z
UID:10000851-1786028400-1786033800@www.promenz.at
SUMMARY:BET-1030
DESCRIPTION:Betroffenengruppe 3. Bezirk \nUnterstützte Gesprächsgruppe im Nachbarschaftszentrum des Wiener Hilfswerk in der Barichgasse 8 im 3. Bezirk\, von 15 - 16:30 Uhr. Offen nach vorheriger Anmeldung unter buchegger@promenz.at oder 0660 94 90 438.
URL:https://www.promenz.at/promenzveranstaltung/bw1030-9/2026-08-06/
CATEGORIES:Betroffenengruppe Präsenz 1030
END:VEVENT
BEGIN:VEVENT
DTSTART;TZID=Europe/Paris:20260810T150000
DTEND;TZID=Europe/Paris:20260810T170000
DTSTAMP:20260421T012301
CREATED:20241114T092142Z
LAST-MODIFIED:20250130T102514Z
UID:10001276-1786374000-1786381200@www.promenz.at
SUMMARY:BET-3400
DESCRIPTION:Betroffenengruppe Klosterneuburg \nUnterstützte Gesprächsgruppe im Caritas Pflegewohnhaus St. Leopold\, Brandmayerstraße 50\, in Klosterneuburg\nvon 15 - 17 Uhr. Offen nach vorheriger Anmeldung unter info.klosterneuburg@promenz.at oder +43 670 351 37 36.
URL:https://www.promenz.at/promenzveranstaltung/bet-3400/2026-08-10/
LOCATION:Caritas Pflegewohnhaus St. Leopold\, Brandmayerstraße 50\, Klosterneuburg\, 3400\, Österreich
CATEGORIES:Betroffenengruppe Präsenz 3400
END:VEVENT
BEGIN:VEVENT
DTSTART;TZID=Europe/Paris:20260811T150000
DTEND;TZID=Europe/Paris:20260811T170000
DTSTAMP:20260421T012301
CREATED:20240531T061535Z
LAST-MODIFIED:20260414T192759Z
UID:10000161-1786460400-1786467600@www.promenz.at
SUMMARY:BET-1130
DESCRIPTION:Betroffenengruppe 13. Bezirk \nUnterstützte Gesprächsgruppe im Kardinal König Haus (Kardinal-König-Platz 3) im 13. Bezirk von 15 - 17 Uhr. Offen nach vorheriger Anmeldung unter info@promenz.at oder 0664 525 33 00.
URL:https://www.promenz.at/promenzveranstaltung/bet-1130/2026-08-11/
LOCATION:Kardinal König Haus\, Kardinal-König-Platz 3\, Wien\, 1130\, Österreich
CATEGORIES:Betroffenengruppe Präsenz 1130
END:VEVENT
BEGIN:VEVENT
DTSTART;TZID=Europe/Paris:20260811T150000
DTEND;TZID=Europe/Paris:20260811T170000
DTSTAMP:20260421T012301
CREATED:20240531T063457Z
LAST-MODIFIED:20260414T192629Z
UID:10000289-1786460400-1786467600@www.promenz.at
SUMMARY:ANG-1130
DESCRIPTION:Angehörigengruppe 1130 Wien \nUnterstützte Gesprächsgruppe im Kardinal König Haus (Kardinal-König-Platz 3) im 13. Bezirk für Angehörige von Menschen mit Demenz von 15 - 17 Uhr. Offen nach vorheriger Anmeldung unter angehoerige@promenz.at oder 0664 3959941.
URL:https://www.promenz.at/promenzveranstaltung/ang-1130-2/2026-08-11/
LOCATION:Kardinal König Haus\, Kardinal-König-Platz 3\, Wien\, 1130\, Österreich
CATEGORIES:Angehörigengruppe Präsenz 1130
END:VEVENT
BEGIN:VEVENT
DTSTART;TZID=Europe/Paris:20260813T150000
DTEND;TZID=Europe/Paris:20260813T163000
DTSTAMP:20260421T012301
CREATED:20230407T080100Z
LAST-MODIFIED:20251215T204502Z
UID:10000852-1786633200-1786638600@www.promenz.at
SUMMARY:BET-1030
DESCRIPTION:Betroffenengruppe 3. Bezirk \nUnterstützte Gesprächsgruppe im Nachbarschaftszentrum des Wiener Hilfswerk in der Barichgasse 8 im 3. Bezirk\, von 15 - 16:30 Uhr. Offen nach vorheriger Anmeldung unter buchegger@promenz.at oder 0660 94 90 438.
URL:https://www.promenz.at/promenzveranstaltung/bw1030-9/2026-08-13/
CATEGORIES:Betroffenengruppe Präsenz 1030
END:VEVENT
BEGIN:VEVENT
DTSTART;TZID=Europe/Paris:20260817T180000
DTEND;TZID=Europe/Paris:20260817T193000
DTSTAMP:20260421T012301
CREATED:20240423T162225Z
LAST-MODIFIED:20260414T192909Z
UID:10000418-1786989600-1786995000@www.promenz.at
SUMMARY:ANG-ONLINE
DESCRIPTION:Angehörigengruppe Online \nUnterstützte Gesprächsgruppe online via zoom\nvon 18 - 19.30 Uhr. Offen nach vorheriger Anmeldung unter info@promenz.at oder 0664 525 33 00.
URL:https://www.promenz.at/promenzveranstaltung/ang-online-5/2026-08-17/
CATEGORIES:Angehörigengruppe Online
END:VEVENT
BEGIN:VEVENT
DTSTART;TZID=Europe/Paris:20260820T150000
DTEND;TZID=Europe/Paris:20260820T163000
DTSTAMP:20260421T012301
CREATED:20230407T080100Z
LAST-MODIFIED:20251215T204502Z
UID:10000853-1787238000-1787243400@www.promenz.at
SUMMARY:BET-1030
DESCRIPTION:Betroffenengruppe 3. Bezirk \nUnterstützte Gesprächsgruppe im Nachbarschaftszentrum des Wiener Hilfswerk in der Barichgasse 8 im 3. Bezirk\, von 15 - 16:30 Uhr. Offen nach vorheriger Anmeldung unter buchegger@promenz.at oder 0660 94 90 438.
URL:https://www.promenz.at/promenzveranstaltung/bw1030-9/2026-08-20/
CATEGORIES:Betroffenengruppe Präsenz 1030
END:VEVENT
BEGIN:VEVENT
DTSTART;TZID=Europe/Paris:20260824T150000
DTEND;TZID=Europe/Paris:20260824T170000
DTSTAMP:20260421T012301
CREATED:20241114T092142Z
LAST-MODIFIED:20250130T102514Z
UID:10001277-1787583600-1787590800@www.promenz.at
SUMMARY:BET-3400
DESCRIPTION:Betroffenengruppe Klosterneuburg \nUnterstützte Gesprächsgruppe im Caritas Pflegewohnhaus St. Leopold\, Brandmayerstraße 50\, in Klosterneuburg\nvon 15 - 17 Uhr. Offen nach vorheriger Anmeldung unter info.klosterneuburg@promenz.at oder +43 670 351 37 36.
URL:https://www.promenz.at/promenzveranstaltung/bet-3400/2026-08-24/
LOCATION:Caritas Pflegewohnhaus St. Leopold\, Brandmayerstraße 50\, Klosterneuburg\, 3400\, Österreich
CATEGORIES:Betroffenengruppe Präsenz 3400
END:VEVENT
BEGIN:VEVENT
DTSTART;TZID=Europe/Paris:20260825T150000
DTEND;TZID=Europe/Paris:20260825T170000
DTSTAMP:20260421T012301
CREATED:20240531T061535Z
LAST-MODIFIED:20260414T192759Z
UID:10000162-1787670000-1787677200@www.promenz.at
SUMMARY:BET-1130
DESCRIPTION:Betroffenengruppe 13. Bezirk \nUnterstützte Gesprächsgruppe im Kardinal König Haus (Kardinal-König-Platz 3) im 13. Bezirk von 15 - 17 Uhr. Offen nach vorheriger Anmeldung unter info@promenz.at oder 0664 525 33 00.
URL:https://www.promenz.at/promenzveranstaltung/bet-1130/2026-08-25/
LOCATION:Kardinal König Haus\, Kardinal-König-Platz 3\, Wien\, 1130\, Österreich
CATEGORIES:Betroffenengruppe Präsenz 1130
END:VEVENT
BEGIN:VEVENT
DTSTART;TZID=Europe/Paris:20260825T150000
DTEND;TZID=Europe/Paris:20260825T170000
DTSTAMP:20260421T012301
CREATED:20240531T063457Z
LAST-MODIFIED:20260414T192629Z
UID:10000290-1787670000-1787677200@www.promenz.at
SUMMARY:ANG-1130
DESCRIPTION:Angehörigengruppe 1130 Wien \nUnterstützte Gesprächsgruppe im Kardinal König Haus (Kardinal-König-Platz 3) im 13. Bezirk für Angehörige von Menschen mit Demenz von 15 - 17 Uhr. Offen nach vorheriger Anmeldung unter angehoerige@promenz.at oder 0664 3959941.
URL:https://www.promenz.at/promenzveranstaltung/ang-1130-2/2026-08-25/
LOCATION:Kardinal König Haus\, Kardinal-König-Platz 3\, Wien\, 1130\, Österreich
CATEGORIES:Angehörigengruppe Präsenz 1130
END:VEVENT
BEGIN:VEVENT
DTSTART;TZID=Europe/Paris:20260827T150000
DTEND;TZID=Europe/Paris:20260827T163000
DTSTAMP:20260421T012301
CREATED:20230407T080100Z
LAST-MODIFIED:20251215T204502Z
UID:10000854-1787842800-1787848200@www.promenz.at
SUMMARY:BET-1030
DESCRIPTION:Betroffenengruppe 3. Bezirk \nUnterstützte Gesprächsgruppe im Nachbarschaftszentrum des Wiener Hilfswerk in der Barichgasse 8 im 3. Bezirk\, von 15 - 16:30 Uhr. Offen nach vorheriger Anmeldung unter buchegger@promenz.at oder 0660 94 90 438.
URL:https://www.promenz.at/promenzveranstaltung/bw1030-9/2026-08-27/
CATEGORIES:Betroffenengruppe Präsenz 1030
END:VEVENT
BEGIN:VEVENT
DTSTART;TZID=Europe/Paris:20260831T180000
DTEND;TZID=Europe/Paris:20260831T193000
DTSTAMP:20260421T012301
CREATED:20240423T162225Z
LAST-MODIFIED:20260414T192909Z
UID:10000419-1788199200-1788204600@www.promenz.at
SUMMARY:ANG-ONLINE
DESCRIPTION:Angehörigengruppe Online \nUnterstützte Gesprächsgruppe online via zoom\nvon 18 - 19.30 Uhr. Offen nach vorheriger Anmeldung unter info@promenz.at oder 0664 525 33 00.
URL:https://www.promenz.at/promenzveranstaltung/ang-online-5/2026-08-31/
CATEGORIES:Angehörigengruppe Online
END:VEVENT
BEGIN:VEVENT
DTSTART;TZID=Europe/Paris:20260903T150000
DTEND;TZID=Europe/Paris:20260903T163000
DTSTAMP:20260421T012301
CREATED:20230407T080100Z
LAST-MODIFIED:20251215T204502Z
UID:10000855-1788447600-1788453000@www.promenz.at
SUMMARY:BET-1030
DESCRIPTION:Betroffenengruppe 3. Bezirk \nUnterstützte Gesprächsgruppe im Nachbarschaftszentrum des Wiener Hilfswerk in der Barichgasse 8 im 3. Bezirk\, von 15 - 16:30 Uhr. Offen nach vorheriger Anmeldung unter buchegger@promenz.at oder 0660 94 90 438.
URL:https://www.promenz.at/promenzveranstaltung/bw1030-9/2026-09-03/
CATEGORIES:Betroffenengruppe Präsenz 1030
END:VEVENT
BEGIN:VEVENT
DTSTART;TZID=Europe/Paris:20260907T150000
DTEND;TZID=Europe/Paris:20260907T170000
DTSTAMP:20260421T012301
CREATED:20241114T092142Z
LAST-MODIFIED:20250130T102514Z
UID:10001278-1788793200-1788800400@www.promenz.at
SUMMARY:BET-3400
DESCRIPTION:Betroffenengruppe Klosterneuburg \nUnterstützte Gesprächsgruppe im Caritas Pflegewohnhaus St. Leopold\, Brandmayerstraße 50\, in Klosterneuburg\nvon 15 - 17 Uhr. Offen nach vorheriger Anmeldung unter info.klosterneuburg@promenz.at oder +43 670 351 37 36.
URL:https://www.promenz.at/promenzveranstaltung/bet-3400/2026-09-07/
LOCATION:Caritas Pflegewohnhaus St. Leopold\, Brandmayerstraße 50\, Klosterneuburg\, 3400\, Österreich
CATEGORIES:Betroffenengruppe Präsenz 3400
END:VEVENT
BEGIN:VEVENT
DTSTART;TZID=Europe/Paris:20260908T150000
DTEND;TZID=Europe/Paris:20260908T170000
DTSTAMP:20260421T012301
CREATED:20240531T061535Z
LAST-MODIFIED:20260414T192759Z
UID:10000163-1788879600-1788886800@www.promenz.at
SUMMARY:BET-1130
DESCRIPTION:Betroffenengruppe 13. Bezirk \nUnterstützte Gesprächsgruppe im Kardinal König Haus (Kardinal-König-Platz 3) im 13. Bezirk von 15 - 17 Uhr. Offen nach vorheriger Anmeldung unter info@promenz.at oder 0664 525 33 00.
URL:https://www.promenz.at/promenzveranstaltung/bet-1130/2026-09-08/
LOCATION:Kardinal König Haus\, Kardinal-König-Platz 3\, Wien\, 1130\, Österreich
CATEGORIES:Betroffenengruppe Präsenz 1130
END:VEVENT
BEGIN:VEVENT
DTSTART;TZID=Europe/Paris:20260908T150000
DTEND;TZID=Europe/Paris:20260908T170000
DTSTAMP:20260421T012301
CREATED:20240531T063457Z
LAST-MODIFIED:20260414T192629Z
UID:10000291-1788879600-1788886800@www.promenz.at
SUMMARY:ANG-1130
DESCRIPTION:Angehörigengruppe 1130 Wien \nUnterstützte Gesprächsgruppe im Kardinal König Haus (Kardinal-König-Platz 3) im 13. Bezirk für Angehörige von Menschen mit Demenz von 15 - 17 Uhr. Offen nach vorheriger Anmeldung unter angehoerige@promenz.at oder 0664 3959941.
URL:https://www.promenz.at/promenzveranstaltung/ang-1130-2/2026-09-08/
LOCATION:Kardinal König Haus\, Kardinal-König-Platz 3\, Wien\, 1130\, Österreich
CATEGORIES:Angehörigengruppe Präsenz 1130
END:VEVENT
BEGIN:VEVENT
DTSTART;TZID=Europe/Paris:20260910T150000
DTEND;TZID=Europe/Paris:20260910T163000
DTSTAMP:20260421T012301
CREATED:20230407T080100Z
LAST-MODIFIED:20251215T204502Z
UID:10000856-1789052400-1789057800@www.promenz.at
SUMMARY:BET-1030
DESCRIPTION:Betroffenengruppe 3. Bezirk \nUnterstützte Gesprächsgruppe im Nachbarschaftszentrum des Wiener Hilfswerk in der Barichgasse 8 im 3. Bezirk\, von 15 - 16:30 Uhr. Offen nach vorheriger Anmeldung unter buchegger@promenz.at oder 0660 94 90 438.
URL:https://www.promenz.at/promenzveranstaltung/bw1030-9/2026-09-10/
CATEGORIES:Betroffenengruppe Präsenz 1030
END:VEVENT
BEGIN:VEVENT
DTSTART;TZID=Europe/Paris:20260914T180000
DTEND;TZID=Europe/Paris:20260914T193000
DTSTAMP:20260421T012301
CREATED:20240423T162225Z
LAST-MODIFIED:20260414T192909Z
UID:10000420-1789408800-1789414200@www.promenz.at
SUMMARY:ANG-ONLINE
DESCRIPTION:Angehörigengruppe Online \nUnterstützte Gesprächsgruppe online via zoom\nvon 18 - 19.30 Uhr. Offen nach vorheriger Anmeldung unter info@promenz.at oder 0664 525 33 00.
URL:https://www.promenz.at/promenzveranstaltung/ang-online-5/2026-09-14/
CATEGORIES:Angehörigengruppe Online
END:VEVENT
BEGIN:VEVENT
DTSTART;TZID=Europe/Paris:20260917T150000
DTEND;TZID=Europe/Paris:20260917T163000
DTSTAMP:20260421T012301
CREATED:20230407T080100Z
LAST-MODIFIED:20251215T204502Z
UID:10000857-1789657200-1789662600@www.promenz.at
SUMMARY:BET-1030
DESCRIPTION:Betroffenengruppe 3. Bezirk \nUnterstützte Gesprächsgruppe im Nachbarschaftszentrum des Wiener Hilfswerk in der Barichgasse 8 im 3. Bezirk\, von 15 - 16:30 Uhr. Offen nach vorheriger Anmeldung unter buchegger@promenz.at oder 0660 94 90 438.
URL:https://www.promenz.at/promenzveranstaltung/bw1030-9/2026-09-17/
CATEGORIES:Betroffenengruppe Präsenz 1030
END:VEVENT
BEGIN:VEVENT
DTSTART;TZID=Europe/Paris:20260921T150000
DTEND;TZID=Europe/Paris:20260921T170000
DTSTAMP:20260421T012301
CREATED:20241114T092142Z
LAST-MODIFIED:20250130T102514Z
UID:10001279-1790002800-1790010000@www.promenz.at
SUMMARY:BET-3400
DESCRIPTION:Betroffenengruppe Klosterneuburg \nUnterstützte Gesprächsgruppe im Caritas Pflegewohnhaus St. Leopold\, Brandmayerstraße 50\, in Klosterneuburg\nvon 15 - 17 Uhr. Offen nach vorheriger Anmeldung unter info.klosterneuburg@promenz.at oder +43 670 351 37 36.
URL:https://www.promenz.at/promenzveranstaltung/bet-3400/2026-09-21/
LOCATION:Caritas Pflegewohnhaus St. Leopold\, Brandmayerstraße 50\, Klosterneuburg\, 3400\, Österreich
CATEGORIES:Betroffenengruppe Präsenz 3400
END:VEVENT
BEGIN:VEVENT
DTSTART;TZID=Europe/Paris:20260922T150000
DTEND;TZID=Europe/Paris:20260922T170000
DTSTAMP:20260421T012301
CREATED:20240531T061535Z
LAST-MODIFIED:20260414T192759Z
UID:10000164-1790089200-1790096400@www.promenz.at
SUMMARY:BET-1130
DESCRIPTION:Betroffenengruppe 13. Bezirk \nUnterstützte Gesprächsgruppe im Kardinal König Haus (Kardinal-König-Platz 3) im 13. Bezirk von 15 - 17 Uhr. Offen nach vorheriger Anmeldung unter info@promenz.at oder 0664 525 33 00.
URL:https://www.promenz.at/promenzveranstaltung/bet-1130/2026-09-22/
LOCATION:Kardinal König Haus\, Kardinal-König-Platz 3\, Wien\, 1130\, Österreich
CATEGORIES:Betroffenengruppe Präsenz 1130
END:VEVENT
BEGIN:VEVENT
DTSTART;TZID=Europe/Paris:20260922T150000
DTEND;TZID=Europe/Paris:20260922T170000
DTSTAMP:20260421T012301
CREATED:20240531T063457Z
LAST-MODIFIED:20260414T192629Z
UID:10000292-1790089200-1790096400@www.promenz.at
SUMMARY:ANG-1130
DESCRIPTION:Angehörigengruppe 1130 Wien \nUnterstützte Gesprächsgruppe im Kardinal König Haus (Kardinal-König-Platz 3) im 13. Bezirk für Angehörige von Menschen mit Demenz von 15 - 17 Uhr. Offen nach vorheriger Anmeldung unter angehoerige@promenz.at oder 0664 3959941.
URL:https://www.promenz.at/promenzveranstaltung/ang-1130-2/2026-09-22/
LOCATION:Kardinal König Haus\, Kardinal-König-Platz 3\, Wien\, 1130\, Österreich
CATEGORIES:Angehörigengruppe Präsenz 1130
END:VEVENT
BEGIN:VEVENT
DTSTART;TZID=Europe/Paris:20260924T150000
DTEND;TZID=Europe/Paris:20260924T163000
DTSTAMP:20260421T012301
CREATED:20230407T080100Z
LAST-MODIFIED:20251215T204502Z
UID:10000858-1790262000-1790267400@www.promenz.at
SUMMARY:BET-1030
DESCRIPTION:Betroffenengruppe 3. Bezirk \nUnterstützte Gesprächsgruppe im Nachbarschaftszentrum des Wiener Hilfswerk in der Barichgasse 8 im 3. Bezirk\, von 15 - 16:30 Uhr. Offen nach vorheriger Anmeldung unter buchegger@promenz.at oder 0660 94 90 438.
URL:https://www.promenz.at/promenzveranstaltung/bw1030-9/2026-09-24/
CATEGORIES:Betroffenengruppe Präsenz 1030
END:VEVENT
BEGIN:VEVENT
DTSTART;TZID=Europe/Paris:20260928T180000
DTEND;TZID=Europe/Paris:20260928T193000
DTSTAMP:20260421T012301
CREATED:20240423T162225Z
LAST-MODIFIED:20260414T192909Z
UID:10000421-1790618400-1790623800@www.promenz.at
SUMMARY:ANG-ONLINE
DESCRIPTION:Angehörigengruppe Online \nUnterstützte Gesprächsgruppe online via zoom\nvon 18 - 19.30 Uhr. Offen nach vorheriger Anmeldung unter info@promenz.at oder 0664 525 33 00.
URL:https://www.promenz.at/promenzveranstaltung/ang-online-5/2026-09-28/
CATEGORIES:Angehörigengruppe Online
END:VEVENT
BEGIN:VEVENT
DTSTART;TZID=Europe/Paris:20261001T150000
DTEND;TZID=Europe/Paris:20261001T163000
DTSTAMP:20260421T012301
CREATED:20230407T080100Z
LAST-MODIFIED:20251215T204502Z
UID:10000859-1790866800-1790872200@www.promenz.at
SUMMARY:BET-1030
DESCRIPTION:Betroffenengruppe 3. Bezirk \nUnterstützte Gesprächsgruppe im Nachbarschaftszentrum des Wiener Hilfswerk in der Barichgasse 8 im 3. Bezirk\, von 15 - 16:30 Uhr. Offen nach vorheriger Anmeldung unter buchegger@promenz.at oder 0660 94 90 438.
URL:https://www.promenz.at/promenzveranstaltung/bw1030-9/2026-10-01/
CATEGORIES:Betroffenengruppe Präsenz 1030
END:VEVENT
BEGIN:VEVENT
DTSTART;TZID=Europe/Paris:20261005T150000
DTEND;TZID=Europe/Paris:20261005T170000
DTSTAMP:20260421T012301
CREATED:20241114T092142Z
LAST-MODIFIED:20250130T102514Z
UID:10001280-1791212400-1791219600@www.promenz.at
SUMMARY:BET-3400
DESCRIPTION:Betroffenengruppe Klosterneuburg \nUnterstützte Gesprächsgruppe im Caritas Pflegewohnhaus St. Leopold\, Brandmayerstraße 50\, in Klosterneuburg\nvon 15 - 17 Uhr. Offen nach vorheriger Anmeldung unter info.klosterneuburg@promenz.at oder +43 670 351 37 36.
URL:https://www.promenz.at/promenzveranstaltung/bet-3400/2026-10-05/
LOCATION:Caritas Pflegewohnhaus St. Leopold\, Brandmayerstraße 50\, Klosterneuburg\, 3400\, Österreich
CATEGORIES:Betroffenengruppe Präsenz 3400
END:VEVENT
END:VCALENDAR